BEGIN:VCALENDAR
VERSION:2.0
PRODID:-//http://www.amibike.com///NONSGML kigkonsult.se iCalcreator 2.10.15//
METHOD:PUBLISH
BEGIN:VEVENT
UID:20260424T041443CEST-6827pkrVOc@http://www.amibike.com/
DTSTAMP:20260424T021443Z
DESCRIPTION:{loadposition slide_meccanica_pro}&nbsp\;\nIl 1° CORSO DI MECCA
 NICA PRATICO CON IL BANCO LAVORO\, LA CASSETTA DEGLI ATTREZZI E LE BICI CH
 E POTRAI SMONTARE / RIPARARE / MANUTENERE / RIMONTARE\nPer info specifiche
  contattare&nbsp\; Michele Vezzali: 347 416 6293 -&nbsp\; Marco Ricci 327 
 0961921 (Responsabile corsi di meccanica) - &nbsp\; Pilade Simonitto 348 2
 86 4414 (per info anche logistiche)\n{jutabs loadcontent='articleid:1566' 
 theme='style02' width='100%' minwidth='0' maxwidth='none' height='auto' he
 ighttabs='auto' defaultitem='0' maxitems='0' skipemptyitems='false' histor
 y='false' changetab='click' initialeffect='true' ajax='false' duration='40
 0' tabeffect='slidehorizontal' currentitemeasing='linear' nextitemeasing='
 linear' swipetouch='true' triggerwindowresize='false' slidetotab='true' vi
 ew='introtext' parseplugin='true' type='tab' position='top' tabalign='left
 ' tabscroll='true'}{/jutabs} http://www.amibike.com/Evento/445-corso-di-me
 ccanica-e-manutenzione-pratica-dal-9-al-10-novembre-a-modena.html
DTSTART:20241109T081100Z
DTEND:20241110T181100Z
LOCATION:CSI MODENA (Via del Caravaggio\, 71\, 41124 Modena MO)
SUMMARY:Corso di Meccanica e Manutenzione PRATICA dal 9 al 10 novembre a Mo
 dena
URL:http://www.amibike.com/Evento/445-corso-di-meccanica-e-manutenzione-pra
 tica-dal-9-al-10-novembre-a-modena.html
END:VEVENT
END:VCALENDAR
